BEGIN:VCALENDAR
VERSION:2.0
PRODID:-//Le SNEP FSU Strasbourg - ECPv6.15.20//NONSGML v1.0//EN
CALSCALE:GREGORIAN
METHOD:PUBLISH
X-ORIGINAL-URL:https://www.snepfsu-strasbourg.net
X-WR-CALDESC:Évènements pour Le SNEP FSU Strasbourg
REFRESH-INTERVAL;VALUE=DURATION:PT1H
X-Robots-Tag:noindex
X-PUBLISHED-TTL:PT1H
BEGIN:VTIMEZONE
TZID:Europe/Paris
BEGIN:DAYLIGHT
TZOFFSETFROM:+0100
TZOFFSETTO:+0200
TZNAME:CEST
DTSTART:20190331T010000
END:DAYLIGHT
BEGIN:STANDARD
TZOFFSETFROM:+0200
TZOFFSETTO:+0100
TZNAME:CET
DTSTART:20191027T010000
END:STANDARD
BEGIN:DAYLIGHT
TZOFFSETFROM:+0100
TZOFFSETTO:+0200
TZNAME:CEST
DTSTART:20200329T010000
END:DAYLIGHT
BEGIN:STANDARD
TZOFFSETFROM:+0200
TZOFFSETTO:+0100
TZNAME:CET
DTSTART:20201025T010000
END:STANDARD
BEGIN:DAYLIGHT
TZOFFSETFROM:+0100
TZOFFSETTO:+0200
TZNAME:CEST
DTSTART:20210328T010000
END:DAYLIGHT
BEGIN:STANDARD
TZOFFSETFROM:+0200
TZOFFSETTO:+0100
TZNAME:CET
DTSTART:20211031T010000
END:STANDARD
END:VTIMEZONE
BEGIN:VEVENT
DTSTART;TZID=Europe/Paris:20201112T180000
DTEND;TZID=Europe/Paris:20201112T193000
DTSTAMP:20260425T193331
CREATED:20201106T154249Z
LAST-MODIFIED:20201107T214318Z
UID:3135-1605204000-1605209400@www.snepfsu-strasbourg.net
SUMMARY:Visioconférence - EPS en protocole renforcé ?
DESCRIPTION:APSA déprogrammées\, installations sportives difficilement accessibles ou fermées\, AS « confinée »…\nLa reprise du lundi 2 novembre s’est traduite dans les établissements par des situations bien différentes.\nQu’il s’agisse de célébrer un hommage digne à notre collègue Samuel Paty\, mettre en place un protocole sanitaire « renforcé » ou poursuivre un enseignement de l’EPS de plus en plus contraint\, les situations sont diverses. \nDans cette période\, les besoins pour la santé\, la réussite et l’accompagnement des élèves sont énormes. Mais une fois de plus\, JM Blanquer y est indifférent. Si l’Ecole est la « colonne vertébrale » de la République\, comme l’affirme le ministre dans sa vidéo du 31 octobre\, alors il faut en faire une priorité dans les actes. \nPour faire le point sur la reprise dans les établissements\, entendre les différentes situations et échanger\, le SNEP-FSU Strasbourg t’invite à une\nVisioconférence\nJeudi 12 novembre à de 18h à 19h30\nCe temps de réunion de la profession\, ouvert à toutes et tous\, doit nous permettre de construire ensemble les revendications et de préparer notre action à venir. \nPour t’inscrire\, clique ci-dessous. \nLe lien pour la visio te sera envoyé par mail jeudi dans la journée. \nIls/Elles sont déjà inscrit(e)sMaxime CLAUDE Tania Havet Stéphanie MOREL Emmanuel ROEHRIG Christophe ANSEL angelo romano serge cattaneo Catherine Buhl Patricia Bedu Isabelle Maillot Muriel Hernandez benjamin MAILLOT Frédéric Schwindenhammer Eli Gerhard Aurélia ESCH frederic klein Frédéric Greiner Pascal Schwartz
URL:https://www.snepfsu-strasbourg.net/event/visio-conference-eps-reconfinee/
LOCATION:Grand Est
CATEGORIES:Stages
ATTACH;FMTTYPE=image/jpeg:https://www.snepfsu-strasbourg.net/wp-content/uploads/2020/05/Image-visio2-1.jpg
ORGANIZER;CN="SNEP FSU Strasbourg":MAILTO:s3-strasbourg@snepfsu.net
END:VEVENT
BEGIN:VEVENT
DTSTART;TZID=Europe/Paris:20201123T140000
DTEND;TZID=Europe/Paris:20201123T190000
DTSTAMP:20260425T193331
CREATED:20201013T034835Z
LAST-MODIFIED:20201106T183031Z
UID:3002-1606140000-1606158000@www.snepfsu-strasbourg.net
SUMMARY:Stage Mutations Interacadémiques
DESCRIPTION:Stage organisé au en visioconférence\n\nLe SNEP FSU Strasbourg vous accueille virtuellement\, depuis Strasbourg\, Mulhouse et dans toute l’Alsace. \nCe stage aura lieu EN VISIOCONFÉRENCE le lundi 23 novembre de 14h00 à 19h00\nChacun peut se connecter au moment où il le souhaite. \nLe stage en visioconférence donne aussi droit à autorisation d’absence ! \nProgramme :\n\n14h présentation commentée des règles de mutation inter (éventuellement reprise plus tard en fonction des horaires de connexion)\nSuivi de questions / réponses\nSuivi éventuellement d’un entretien individuel pour les syndiqués uniquement\n\n\nPour s’inscrire\, il vous faut : \n\ndonner une autorisation d’absence à votre chef d’établissement (Nous contacter en cas de difficultés)\n\n[Téléchargement introuvable] \nET \n\nVous inscrire sur en utilisant le formulaire sur cette page\n\nLe Lien de connexion vous parviendra le lundi 23 novembre dans la journée \nRenseignements :       Benjamin Maillot 06 74 95 59 44 et Joëlle HALDRIC 06 17 17 35 92\n \n\nIls/Elles sont déjà inscrit(e)sPauline Morvan Malaury Hiebel JOELLE HALDRIC Nathalie Sonrier Isabelle Maillot Edith Denjean Salomé Thiebold Cécile EMY
URL:https://www.snepfsu-strasbourg.net/event/stage-mutations-interacademiques-68/
LOCATION:Grand Est
CATEGORIES:Stages
ATTACH;FMTTYPE=image/png:https://www.snepfsu-strasbourg.net/wp-content/uploads/2020/02/voeu-mutations-e1580800394933.png
ORGANIZER;CN="SNEP FSU Strasbourg":MAILTO:s3-strasbourg@snepfsu.net
END:VEVENT
END:VCALENDAR