BEGIN:VCALENDAR
VERSION:2.0
PRODID:-//Le SNEP FSU Strasbourg - ECPv6.15.20//NONSGML v1.0//EN
CALSCALE:GREGORIAN
METHOD:PUBLISH
X-WR-CALNAME:Le SNEP FSU Strasbourg
X-ORIGINAL-URL:https://www.snepfsu-strasbourg.net
X-WR-CALDESC:Évènements pour Le SNEP FSU Strasbourg
REFRESH-INTERVAL;VALUE=DURATION:PT1H
X-Robots-Tag:noindex
X-PUBLISHED-TTL:PT1H
BEGIN:VTIMEZONE
TZID:Europe/Paris
BEGIN:DAYLIGHT
TZOFFSETFROM:+0100
TZOFFSETTO:+0200
TZNAME:CEST
DTSTART:20200329T010000
END:DAYLIGHT
BEGIN:STANDARD
TZOFFSETFROM:+0200
TZOFFSETTO:+0100
TZNAME:CET
DTSTART:20201025T010000
END:STANDARD
BEGIN:DAYLIGHT
TZOFFSETFROM:+0100
TZOFFSETTO:+0200
TZNAME:CEST
DTSTART:20210328T010000
END:DAYLIGHT
BEGIN:STANDARD
TZOFFSETFROM:+0200
TZOFFSETTO:+0100
TZNAME:CET
DTSTART:20211031T010000
END:STANDARD
BEGIN:DAYLIGHT
TZOFFSETFROM:+0100
TZOFFSETTO:+0200
TZNAME:CEST
DTSTART:20220327T010000
END:DAYLIGHT
BEGIN:STANDARD
TZOFFSETFROM:+0200
TZOFFSETTO:+0100
TZNAME:CET
DTSTART:20221030T010000
END:STANDARD
END:VTIMEZONE
BEGIN:VEVENT
DTSTART;TZID=Europe/Paris:20211115T080000
DTEND;TZID=Europe/Paris:20211115T170000
DTSTAMP:20260425T030312
CREATED:20210924T115508Z
LAST-MODIFIED:20210924T120043Z
UID:3672-1636963200-1636995600@www.snepfsu-strasbourg.net
SUMMARY:Ultramarathon 2021 - aide-nous à franchir la barre des 1000 km !
DESCRIPTION:Le but de l’action est de totaliser la plus grande distance possible en additionnant les résultats des établissements de toute l’académie.  Cette action simple et rapide à mettre en place vise à attirer la presse pour montrer que l’EPS est le seul endroit où tous les jeunes ont une activité physique encadrée\, révélant à quel point notre discipline est indispensable. \n Cette action est à réaliser en cours avec les élèves\, en quelques minutes.  \n La situation est décrite dans la fiche ci-dessous  \n Date limite pour comptabiliser les tours dimanche 14 novembre à l’adresse s2-67@snepfsu-strasbourg.net  ou ici :\nSi tu le souhaite\, tu peux médiatiser ton action locale. L’an dernier\, la presse s’est déplacée dans 4 établissements. Pour cela\, nous avons confectionné un guide que tu trouveras dans le doc ci-dessous. \n\nInscrits-toi avec ton établissement\, et renvoie-nous les résultats avant la date limite ! \n\n\n\n\n \n[Téléchargement introuvable]\n\nIls/Elles sont déjà inscrit(e)sBenjamin MAILLOT JOELLE haldric vincent boye Frédéric Greiner
URL:https://www.snepfsu-strasbourg.net/event/ultramarathon-2021-aide-nous-a-franchir-la-barre-des-1000-km/
LOCATION:Grand Est
CATEGORIES:Stages
ATTACH;FMTTYPE=image/jpeg:https://www.snepfsu-strasbourg.net/wp-content/uploads/2021/09/JourneesEps.jpg
ORGANIZER;CN="Patricia Bedu":MAILTO:s2-67@snepfsu.net
END:VEVENT
BEGIN:VEVENT
DTSTART;TZID=Europe/Paris:20211118T090000
DTEND;TZID=Europe/Paris:20211118T170000
DTSTAMP:20260425T030312
CREATED:20210924T125021Z
LAST-MODIFIED:20211013T205608Z
UID:3675-1637226000-1637254800@www.snepfsu-strasbourg.net
SUMMARY:Stage Musculation 67
DESCRIPTION:Dans le cadre national des journées de l’EPS\, organisées dans les académies\, le SNEP Strasbourg vous propose une journée de formation par département\, sur le thème de la musculation. La première à Illkirch-Graffenstaden au lycée hôtelier Alexandre Dumas jeudi 18 novembre et la deuxième à Mulhouse au lycée Lambert le lundi 22 novembre. \nLe contexte sociétal fait de la musculation une nébuleuse d’activités en plein développement. \nLa baisse inquiétante des qualités physiques des jeunes\, largement documentée\, nous confirme leur besoin d’activité\, tant l’état musculaire conditionne la forme physique et le développement général de l’individu. La crise du coronavirus n’a fait qu’accentuer ce phénomène. \nL’explosion de ces pratiques de musculation dans le champ social nous interroge\, et nous incite à éviter de faire la promotion d’une marchandisation du corps à travers cette activité. \n \nLa formation a pour but d’ouvrir des pistes pour tenter de promouvoir une musculation commune à tous\, qui ne repose pas sur le simple désir de chaque élève\, tout en répondant à ses besoins propres. Dans cette perspective\, la musculation peut être appréhendée selon trois modalités\, non étanches entre elles\, une activité de développement de soi\, une activité de préparation à la pratique sportive\, et une activité sportive codifiée\, l’haltérophilie. \nLa formation est ouverte à tous\, sur inscription \nPour vous inscrire \, il vous faut\n\nvous inscrire sur le site du Snep Strasbourg dans cette rubrique.\n\nET\n\ndonner une autorisation d’absence [Téléchargement introuvable] à votre chef d’établissement avant le 18 octobre\n\n\nIls/Elles sont déjà inscrit(e)sDéborah M Laura Lambert Danièle Bruder Emilie Tornare Laurence SCHWEITZER Pierre Trautmann Rémy HERRGOTT Patricia BEDU MEYER Julie Pierre Ancel christophe uhaldeborde Emmanuel ROEHRIG Anne Boisset Frédéric Wallez Corine Ledig vincent boye JOELLE haldric
URL:https://www.snepfsu-strasbourg.net/event/stage-musculation-67/
LOCATION:Lycée Alexandre Dumas – Illkirch\, 2 rue Eugénie Brazier\, Illkirch-Graffenstaden\, 67400\, France
CATEGORIES:Stages
ATTACH;FMTTYPE=image/jpeg:https://www.snepfsu-strasbourg.net/wp-content/uploads/2021/09/Stage-Collèges-et-Lycées-e1633163441620.jpg
ORGANIZER;CN="Fr%C3%A9d%C3%A9ric Schwindenhammer":MAILTO:f.schwindenhammer@orange.fr
END:VEVENT
BEGIN:VEVENT
DTSTART;TZID=Europe/Paris:20211122T090000
DTEND;TZID=Europe/Paris:20211122T163000
DTSTAMP:20260425T030312
CREATED:20210924T125617Z
LAST-MODIFIED:20211122T071511Z
UID:3681-1637571600-1637598600@www.snepfsu-strasbourg.net
SUMMARY:Stage Musculation 68
DESCRIPTION:Dans le cadre national des journées de l’EPS\, organisées dans les académies\, le SNEP Strasbourg vous propose une journée de formation par département\, sur le thème de la musculation. La première à Illkirch-Graffenstaden au lycée hôtelier Alexandre Dumas jeudi 18 novembre et la deuxième à Mulhouse au lycée Lambert le lundi 22 novembre. \nLe contexte sociétal fait de la musculation une nébuleuse d’activités en plein développement. \nLa baisse inquiétante des qualités physiques des jeunes\, largement documentée\, nous confirme leur besoin d’activité\, tant l’état musculaire conditionne la forme physique et le développement général de l’individu. La crise du coronavirus n’a fait qu’accentuer ce phénomène. \nL’explosion de ces pratiques de musculation dans le champ social nous interroge\, et nous incite à éviter de faire la promotion d’une marchandisation du corps à travers cette activité. \n \nLa formation a pour but d’ouvrir des pistes pour tenter de promouvoir une musculation commune à tous\, qui ne repose pas sur le simple désir de chaque élève\, tout en répondant à ses besoins propres. Dans cette perspective\, la musculation peut être appréhendée selon trois modalités\, non étanches entre elles\, une activité de développement de soi\, une activité de préparation à la pratique sportive\, et une activité sportive codifiée\, l’haltérophilie. \nLa formation est ouverte à tous\, sur inscription \nPour le repas\, possibilité de commander des pizzas en face ! \n  \nPour vous inscrire \, il vous faut\n\nvous inscrire sur le site du Snep Strasbourg dans cette rubrique.\n\nET\n\ndonner une autorisation d’absence [Téléchargement introuvable] à votre chef d’établissement avant le 22 octobre\n\n\nIls/Elles sont déjà inscrit(e)sALBERT Hugo Thomas kuentz Nicolas Buttignol Caroline Eglin David Veneziano Alexis MARCO JULIEN SCHNEBELEN Christophe ANSEL Isabelle Maillot samuel delin Elise SCHNOEBELEN Benjamin MAILLOT PAULINE KELLER Maud schunck Bertrand Horny léa DEGERT Mathias koby Michel dantzer Patricia BIGOT bronner Simone Anny Gilles-Compagnon Ghislaine Torro Josiane Rapp Jérôme Tschaen Bénédicte RITZLER Marie-Noëlle MEYER Frédéric Greiner Daniele WATZKY Maite Bohn Nicolas Richard
URL:https://www.snepfsu-strasbourg.net/event/stage-musculation-68/
LOCATION:Lycée Lambert Mulhouse\, 73 Rue Josué Heilmann\, Mulhouse\, 68100
CATEGORIES:Stages
ATTACH;FMTTYPE=image/jpeg:https://www.snepfsu-strasbourg.net/wp-content/uploads/2021/09/Stage-Collèges-et-Lycées-e1633163441620.jpg
ORGANIZER;CN="Emmanuel Roehrig":MAILTO:madschus@free.fr
END:VEVENT
BEGIN:VEVENT
DTSTART;TZID=Europe/Paris:20211122T140000
DTEND;TZID=Europe/Paris:20211122T190000
DTSTAMP:20260425T030312
CREATED:20210910T035823Z
LAST-MODIFIED:20211122T070715Z
UID:3640-1637589600-1637607600@www.snepfsu-strasbourg.net
SUMMARY:Stage mutations Interacadémiques 2021
DESCRIPTION:Stage organisé au en visioconférence\nLe SNEP FSU Strasbourg vous accueille virtuellement\, depuis Strasbourg\, Mulhouse et dans toute l’Alsace. \nCe stage aura lieu EN VISIOCONFÉRENCE le lundi 22 novembre 2021 de 14h00 à 19h00\n\nLien de connexion : Visiodébat SNEP Stras \n\nLe stage en visioconférence donne aussi droit à autorisation d’absence ! \nProgramme :\n\n14h présentation commentée des règles de mutation inter (éventuellement reprise plus tard en fonction des horaires de connexion)\nSuivi de questions / réponses\nSuivi éventuellement d’un entretien individuel pour les syndiqués uniquement\n\n\nPour s’inscrire\, il vous faut : \n\ndonner une autorisation d’absence à votre chef d’établissement (Nous contacter en cas de difficultés)\n\n demande_conge-stage-inter-68.doc \nET \n\nVous inscrire sur en utilisant le formulaire sur cette page\n\nLe Lien de connexion vous parviendra le lundi 22 novembre dans la journée \nRenseignements :       Benjamin Maillot 06 74 95 59 44 et Joëlle HALDRIC 06 17 17 35 92 \n\nIls/Elles sont déjà inscrit(e)sBaptiste Gueldry Thomas MATHIS MEYER Julie Alexia De diego Amélie Venturini Claire Schmitt Thomas MATHIS vanessa nogier JOELLE haldric
URL:https://www.snepfsu-strasbourg.net/event/stage-mutations-interacademiques-2021/
LOCATION:Grand Est
CATEGORIES:Stages
ATTACH;FMTTYPE=image/png:https://www.snepfsu-strasbourg.net/wp-content/uploads/2020/02/voeu-mutations-e1580800394933.png
ORGANIZER;CN="Jo%C3%ABlle HALDRIC":MAILTO:joelle.haldric@orange.fr
END:VEVENT
END:VCALENDAR