BEGIN:VCALENDAR
VERSION:2.0
PRODID:-//Le SNEP FSU Strasbourg - ECPv6.15.20//NONSGML v1.0//EN
CALSCALE:GREGORIAN
METHOD:PUBLISH
X-WR-CALNAME:Le SNEP FSU Strasbourg
X-ORIGINAL-URL:https://www.snepfsu-strasbourg.net
X-WR-CALDESC:Évènements pour Le SNEP FSU Strasbourg
REFRESH-INTERVAL;VALUE=DURATION:PT1H
X-Robots-Tag:noindex
X-PUBLISHED-TTL:PT1H
BEGIN:VTIMEZONE
TZID:Europe/Paris
BEGIN:DAYLIGHT
TZOFFSETFROM:+0100
TZOFFSETTO:+0200
TZNAME:CEST
DTSTART:20210328T010000
END:DAYLIGHT
BEGIN:STANDARD
TZOFFSETFROM:+0200
TZOFFSETTO:+0100
TZNAME:CET
DTSTART:20211031T010000
END:STANDARD
BEGIN:DAYLIGHT
TZOFFSETFROM:+0100
TZOFFSETTO:+0200
TZNAME:CEST
DTSTART:20220327T010000
END:DAYLIGHT
BEGIN:STANDARD
TZOFFSETFROM:+0200
TZOFFSETTO:+0100
TZNAME:CET
DTSTART:20221030T010000
END:STANDARD
BEGIN:DAYLIGHT
TZOFFSETFROM:+0100
TZOFFSETTO:+0200
TZNAME:CEST
DTSTART:20230326T010000
END:DAYLIGHT
BEGIN:STANDARD
TZOFFSETFROM:+0200
TZOFFSETTO:+0100
TZNAME:CET
DTSTART:20231029T010000
END:STANDARD
END:VTIMEZONE
BEGIN:VEVENT
DTSTART;TZID=Europe/Paris:20220505T090000
DTEND;TZID=Europe/Paris:20220506T170000
DTSTAMP:20260424T192016
CREATED:20220203T104850Z
LAST-MODIFIED:20220220T201549Z
UID:3868-1651741200-1651856400@www.snepfsu-strasbourg.net
SUMMARY:Stage AGIR avec le SNEP
DESCRIPTION:Le SNEP FSU Strasbourg organise\nPour les syndiqués uniquement\nUn stage AGIR avec le SNEP\nAvec Alain De Carlo\, responsable national du SNEP FSU\n\nATTENTION : stage réservé aux syndiqués !\nS’inscrire en ligne ET déposer la demande à son chef d’établissement (envoi par mail également valable)\n \nIl vous faut donner une autorisation d’absence à votre chef d’établissement 1 mois avant  et vous inscrire sur le site du Snep Strasbourg dans cette rubrique. \nEn retard ? pas d’auto-censure ! Envoie quand même ta demande\, et contacte-nous en cas de difficultés.\n Conge-pour-formation-syndicale.docx \n\nIls/Elles sont déjà inscrit(e)sPUCHOL Stéphane MAIA APERT vincent boye Céline WALTER christophe guth nicolas CERUTTI Ingrid Richard Isabelle Maillot samuel delin Christophe ANSEL Bertrand Horny JOELLE haldric Aurélie MILLAUD tania havet Maïté Bohn Stéphane BERTRAND Cécile EMY Angelo ROMANO Sébastien Chane-Lap Emmanuel ROEHRIG Julie Meyer Frédéric Schwindenhammer Benjamin MAILLOT Frédéric Greiner
URL:https://www.snepfsu-strasbourg.net/event/stage-agir-avec-le-snep/
LOCATION:VTM\, Cd 430 Markstein\, Lautenbach-Zell\, 68610\, France
CATEGORIES:Stages
ATTACH;FMTTYPE=image/jpeg:https://www.snepfsu-strasbourg.net/wp-content/uploads/2019/01/Logo-new-Copier.jpg
ORGANIZER;CN="SNEP FSU Strasbourg":MAILTO:s3-strasbourg@snepfsu.net
END:VEVENT
END:VCALENDAR