BEGIN:VCALENDAR
VERSION:2.0
PRODID:-//Le SNEP FSU Strasbourg - ECPv6.15.20//NONSGML v1.0//EN
CALSCALE:GREGORIAN
METHOD:PUBLISH
X-WR-CALNAME:Le SNEP FSU Strasbourg
X-ORIGINAL-URL:https://www.snepfsu-strasbourg.net
X-WR-CALDESC:Évènements pour Le SNEP FSU Strasbourg
REFRESH-INTERVAL;VALUE=DURATION:PT1H
X-Robots-Tag:noindex
X-PUBLISHED-TTL:PT1H
BEGIN:VTIMEZONE
TZID:Europe/Paris
BEGIN:DAYLIGHT
TZOFFSETFROM:+0100
TZOFFSETTO:+0200
TZNAME:CEST
DTSTART:20220327T010000
END:DAYLIGHT
BEGIN:STANDARD
TZOFFSETFROM:+0200
TZOFFSETTO:+0100
TZNAME:CET
DTSTART:20221030T010000
END:STANDARD
BEGIN:DAYLIGHT
TZOFFSETFROM:+0100
TZOFFSETTO:+0200
TZNAME:CEST
DTSTART:20230326T010000
END:DAYLIGHT
BEGIN:STANDARD
TZOFFSETFROM:+0200
TZOFFSETTO:+0100
TZNAME:CET
DTSTART:20231029T010000
END:STANDARD
BEGIN:DAYLIGHT
TZOFFSETFROM:+0100
TZOFFSETTO:+0200
TZNAME:CEST
DTSTART:20240331T010000
END:DAYLIGHT
BEGIN:STANDARD
TZOFFSETFROM:+0200
TZOFFSETTO:+0100
TZNAME:CET
DTSTART:20241027T010000
END:STANDARD
END:VTIMEZONE
BEGIN:VEVENT
DTSTART;TZID=Europe/Paris:20230126T090000
DTEND;TZID=Europe/Paris:20230126T160000
DTSTAMP:20260424T072726
CREATED:20221205T092609Z
LAST-MODIFIED:20221215T131602Z
UID:4303-1674723600-1674748800@www.snepfsu-strasbourg.net
SUMMARY:Troc péda 2023 - Haut-Rhin
DESCRIPTION:Formation EPS ouverte à tous les collègues du Haut-Rhin\nLe matin sera consacré à l’échange de pratiques selon une formule plébiscitée par les collègues l’ayant déjà expérimentée. \nL’après-midi sera consacrée à la pratique sportive dans un but de formation professionnelle. Plusieurs activités pourront être proposées au choix\, en fonction des travaux du matin. \nLa formation est ouverte à tous\, sur inscription ci-dessous \nElle se déroulera au collège François Villon de Mulhouse \n\nPour t’inscrire \, il faut\n\nt’inscrire sur  cette page.\n\nET\n\ndonner une autorisation d’absence [Téléchargement introuvable] à ton / ta chef(fe) d’établissement avant le 26 décembre !\n\n\n  \nDélai dépassé ? pas d’auto-censure ! – Fais quand même ta demande\, elle a de fortes chances d’être acceptée \n\nIls/Elles sont déjà inscrit(e)sAntonin Briglia Elise SCHNOEBELEN Maxime CLAUDE Cécile EMY Mathieu Dadolle Ingrid Richard Alison HILLIER Isabelle MAILLOT Julie Buatois Aurélie MILLAUD clotilde nancy samuel delin Delphine Dadolle Frédéric Greiner Sébastien ATRAS Benjamin MAILLOT
URL:https://www.snepfsu-strasbourg.net/event/troc-peda-2023-haut-rhin/
LOCATION:Collège Villon\, 26 Av. D.m.c\, Mulhouse\, 68200\, France
CATEGORIES:Stages
ATTACH;FMTTYPE=image/jpeg:https://www.snepfsu-strasbourg.net/wp-content/uploads/2019/01/JourneesEps.jpg
ORGANIZER;CN="SNEP FSU Strasbourg":MAILTO:s3-strasbourg@snepfsu.net
END:VEVENT
BEGIN:VEVENT
DTSTART;TZID=Europe/Paris:20230126T090000
DTEND;TZID=Europe/Paris:20230126T160000
DTSTAMP:20260424T072726
CREATED:20221205T093946Z
LAST-MODIFIED:20221214T083939Z
UID:4307-1674723600-1674748800@www.snepfsu-strasbourg.net
SUMMARY:Troc Péda 2023 - Bas-Rhin
DESCRIPTION:Formation EPS ouverte à tous les collègues du Bas-Rhin\nLe matin sera consacré à l’échange de pratiques selon une formule plébiscitée par les collègues l’ayant déjà expérimentée. \nL’après-midi sera consacrée à la pratique sportive dans un but de formation professionnelle. Plusieurs activités pourront être proposées au choix\, en fonction des travaux du matin. \nLa formation est ouverte à tous\, sur inscription ci-dessous \nElle se déroulera au lycée Alexandre Dumas d’Illkirch \n\nPour t’inscrire \, il faut\n\nt’inscrire sur  cette page.\n\nET\n\ndonner une autorisation d’absence [Téléchargement introuvable] à ton / ta chef(fe) d’établissement avant le 26 décembre !\n\n\n  \nDélai dépassé ? pas d’auto-censure ! – Fais quand même ta demande\, elle a de fortes chances d’être acceptée \n\nIls/Elles sont déjà inscrit(e)sfanny schilling Cédric SUR Valérie Schoepf Aurélia ESCH Samuel LICHTLE Frédéric Schwindenahmmer joelle HALDRIC Carole Fourier Laura Lambert vincent boye stephanie denni Séverine KOCHER Meyer Julie
URL:https://www.snepfsu-strasbourg.net/event/troc-peda-2023-bas-rhin/
LOCATION:Lycée Alexandre Dumas – Illkirch\, 2 rue Eugénie Brazier\, Illkirch-Graffenstaden\, 67400\, France
CATEGORIES:Stages
ATTACH;FMTTYPE=image/jpeg:https://www.snepfsu-strasbourg.net/wp-content/uploads/2019/01/JourneesEps.jpg
ORGANIZER;CN="Fr%C3%A9d%C3%A9ric Schwindenhammer":MAILTO:f.schwindenhammer@orange.fr
END:VEVENT
END:VCALENDAR