BEGIN:VCALENDAR
VERSION:2.0
PRODID:-//Le SNEP FSU Strasbourg - ECPv6.15.20//NONSGML v1.0//EN
CALSCALE:GREGORIAN
METHOD:PUBLISH
X-ORIGINAL-URL:https://www.snepfsu-strasbourg.net
X-WR-CALDESC:Évènements pour Le SNEP FSU Strasbourg
REFRESH-INTERVAL;VALUE=DURATION:PT1H
X-Robots-Tag:noindex
X-PUBLISHED-TTL:PT1H
BEGIN:VTIMEZONE
TZID:Europe/Paris
BEGIN:DAYLIGHT
TZOFFSETFROM:+0100
TZOFFSETTO:+0200
TZNAME:CEST
DTSTART:20220327T010000
END:DAYLIGHT
BEGIN:STANDARD
TZOFFSETFROM:+0200
TZOFFSETTO:+0100
TZNAME:CET
DTSTART:20221030T010000
END:STANDARD
BEGIN:DAYLIGHT
TZOFFSETFROM:+0100
TZOFFSETTO:+0200
TZNAME:CEST
DTSTART:20230326T010000
END:DAYLIGHT
BEGIN:STANDARD
TZOFFSETFROM:+0200
TZOFFSETTO:+0100
TZNAME:CET
DTSTART:20231029T010000
END:STANDARD
BEGIN:DAYLIGHT
TZOFFSETFROM:+0100
TZOFFSETTO:+0200
TZNAME:CEST
DTSTART:20240331T010000
END:DAYLIGHT
BEGIN:STANDARD
TZOFFSETFROM:+0200
TZOFFSETTO:+0100
TZNAME:CET
DTSTART:20241027T010000
END:STANDARD
END:VTIMEZONE
BEGIN:VEVENT
DTSTART;TZID=Europe/Paris:20230324T090000
DTEND;TZID=Europe/Paris:20230324T170000
DTSTAMP:20260424T043356
CREATED:20230116T160536Z
LAST-MODIFIED:20230119T142223Z
UID:4388-1679648400-1679677200@www.snepfsu-strasbourg.net
SUMMARY:Stage muts Intra 2023
DESCRIPTION:Pas envie de laisser faire le hasard pour ta mutation ?\nLe SNEP FSU Strasbourg organise un stage mutations intra-académiques\nAu programme : \n\n9h – 12h : Présentation générale des règles du mouvement\, questions / réponses sur les principes généraux (Ouvert à tou.te.s)\n\nMulhouse : Local FSU 19 bouelvard Wallach\nStrasbourg : Local FSU 4 rue de Lausanne\n\n\n14h – 17h : Entretien individuel pour les syndiqués (en cas de difficulté\, nous contacter)\n\n\n\nS’inscrire en ligne ET déposer la demande à son chef d’établissement (envoi par mail également valable)\n \nIl vous faut donner une autorisation d’absence à votre chef d’établissement 1 mois avant  et vous inscrire sur le site du Snep Strasbourg dans cette rubrique. \nEn retard ? pas d’auto-censure ! Envoie quand même ta demande\, et contacte-nous en cas de difficultés.\n[Téléchargement introuvable]\n\nIls/Elles sont déjà inscrit(e)sAdeline Lengert Emilie SIEGWALT--ROSS Léa Riehm Alison HILLIER Joel Schaaff Julie BUATOIS Jean BOYAVAL Bénédicte RITZLER Isabelle Maillot Yvan VADAM Damien Amiot Stéphane Becker fanny LOEHLE Clotilde Nancy Gilles JUNG joelle HALDRIC Victor Waqué Julie Meyer
URL:https://www.snepfsu-strasbourg.net/event/stage-muts-intra-2023/
LOCATION:Local FSU Mulhouse\, 19 boulevard Wallach\, Mulhouse\, 68200\, France
CATEGORIES:Stages
ATTACH;FMTTYPE=image/jpeg:https://www.snepfsu-strasbourg.net/wp-content/uploads/2021/02/8-mutation-1.jpg
ORGANIZER;CN="Jo%C3%ABlle HALDRIC":MAILTO:joelle.haldric@orange.fr
END:VEVENT
END:VCALENDAR