BEGIN:VCALENDAR
VERSION:2.0
PRODID:-//Le SNEP FSU Strasbourg - ECPv6.15.20//NONSGML v1.0//EN
CALSCALE:GREGORIAN
METHOD:PUBLISH
X-ORIGINAL-URL:https://www.snepfsu-strasbourg.net
X-WR-CALDESC:Évènements pour Le SNEP FSU Strasbourg
REFRESH-INTERVAL;VALUE=DURATION:PT1H
X-Robots-Tag:noindex
X-PUBLISHED-TTL:PT1H
BEGIN:VTIMEZONE
TZID:Europe/Paris
BEGIN:DAYLIGHT
TZOFFSETFROM:+0100
TZOFFSETTO:+0200
TZNAME:CEST
DTSTART:20220327T010000
END:DAYLIGHT
BEGIN:STANDARD
TZOFFSETFROM:+0200
TZOFFSETTO:+0100
TZNAME:CET
DTSTART:20221030T010000
END:STANDARD
BEGIN:DAYLIGHT
TZOFFSETFROM:+0100
TZOFFSETTO:+0200
TZNAME:CEST
DTSTART:20230326T010000
END:DAYLIGHT
BEGIN:STANDARD
TZOFFSETFROM:+0200
TZOFFSETTO:+0100
TZNAME:CET
DTSTART:20231029T010000
END:STANDARD
BEGIN:DAYLIGHT
TZOFFSETFROM:+0100
TZOFFSETTO:+0200
TZNAME:CEST
DTSTART:20240331T010000
END:DAYLIGHT
BEGIN:STANDARD
TZOFFSETFROM:+0200
TZOFFSETTO:+0100
TZNAME:CET
DTSTART:20241027T010000
END:STANDARD
END:VTIMEZONE
BEGIN:VEVENT
DTSTART;TZID=Europe/Paris:20230413T080000
DTEND;TZID=Europe/Paris:20230413T170000
DTSTAMP:20260424T031448
CREATED:20230116T162100Z
LAST-MODIFIED:20230309T075549Z
UID:4391-1681372800-1681405200@www.snepfsu-strasbourg.net
SUMMARY:Tournant écologique de l'EPS
DESCRIPTION:Si la bifurcation écologique fait partie des mandats du SNEP FSU depuis le congrès de Porticio en 2021\, cela fait bien longtemps que notre syndicat s’interroge et fait des propositions en ce sens\, notamment sur les installations sportives. \nNous proposons de vous présenter l’état de nos réflexions\, nos pistes de travail\, et d’avancer sur cette question en mode participatif : nous avons tous des idées et des propositions\, venez nous présenter les vôtres ! \nÉbauche de programme non exhaustif\, on pourrait réfléchir sur : \n\nLe matériel en EPS\, de l’achat à la réparation ?\nConstruction / rénovation de piscines et installations sportives\nEt l’UNSS dans tout ça ? Comment faire pour ses déplacements ?\nÉcologie et EPS au quotidien : faire évoluer sa programmation ? Intégrer cet enjeu aux apprentissages ?\n\nProgramme complet à venir. \nLe stage aura lieu le 13 avril au collège Romain Rolland d’Erstein\n\nVous trouverez des ressources pour s’informer sur notre page\nTournant écologique de l’EPS \n  \n\nComment s’inscrire ?\nS’inscrire en ligne ET déposer la demande à son chef d’établissement (envoi par mail également valable)\n \nIl vous faut donner une autorisation d’absence à votre chef d’établissement 1 mois avant  et vous inscrire sur le site du Snep Strasbourg dans cette rubrique. \nEn retard ? pas d’auto-censure ! Envoie quand même ta demande\, et contacte-nous en cas de difficultés.\n Conge-pour-formation-syndicale.docx \n\nIls/Elles sont déjà inscrit(e)svanessa nogier Céline WALTER Christèle Urbany Ingrid Ingrid Emmanuel ROEHRIG Bénédicte Ritzler Danièle Pion Clotilde Nancy Mathieu Dadolle Alison HILLIER Stephanie Denni Barbara Riccobene Bertrand Horny Séverine KOCHER Julien Boudou stéphanie Etienney Cyprien Labreuche Nicolas Nicolas Richard Sébastien ATRAS Angelo ROMANO vincent boye julie meyer Delphine Dadolle Benjamin MAILLOT Frédéric Schwindenhammer Frédéric Greiner Elisa Robert Christophe ANSEL
URL:https://www.snepfsu-strasbourg.net/event/tournant-ecologique-de-leps/
LOCATION:Collège Romain Rolland – Erstein\, 4\, rue de Wissembourg\, Erstein\, Grand Est\, 67150\, France
CATEGORIES:Stages
ATTACH;FMTTYPE=image/jpeg:https://www.snepfsu-strasbourg.net/wp-content/uploads/2023/01/reset-snep-fsu-couv.jpg
ORGANIZER;CN="Christophe Ansel":MAILTO:christophe.ansel@snepfsu-strasbourg.net
END:VEVENT
END:VCALENDAR