BEGIN:VCALENDAR
VERSION:2.0
PRODID:-//Le SNEP FSU Strasbourg - ECPv6.15.20//NONSGML v1.0//EN
CALSCALE:GREGORIAN
METHOD:PUBLISH
X-WR-CALNAME:Le SNEP FSU Strasbourg
X-ORIGINAL-URL:https://www.snepfsu-strasbourg.net
X-WR-CALDESC:Évènements pour Le SNEP FSU Strasbourg
REFRESH-INTERVAL;VALUE=DURATION:PT1H
X-Robots-Tag:noindex
X-PUBLISHED-TTL:PT1H
BEGIN:VTIMEZONE
TZID:Europe/Paris
BEGIN:DAYLIGHT
TZOFFSETFROM:+0100
TZOFFSETTO:+0200
TZNAME:CEST
DTSTART:20220327T010000
END:DAYLIGHT
BEGIN:STANDARD
TZOFFSETFROM:+0200
TZOFFSETTO:+0100
TZNAME:CET
DTSTART:20221030T010000
END:STANDARD
BEGIN:DAYLIGHT
TZOFFSETFROM:+0100
TZOFFSETTO:+0200
TZNAME:CEST
DTSTART:20230326T010000
END:DAYLIGHT
BEGIN:STANDARD
TZOFFSETFROM:+0200
TZOFFSETTO:+0100
TZNAME:CET
DTSTART:20231029T010000
END:STANDARD
BEGIN:DAYLIGHT
TZOFFSETFROM:+0100
TZOFFSETTO:+0200
TZNAME:CEST
DTSTART:20240331T010000
END:DAYLIGHT
BEGIN:STANDARD
TZOFFSETFROM:+0200
TZOFFSETTO:+0100
TZNAME:CET
DTSTART:20241027T010000
END:STANDARD
END:VTIMEZONE
BEGIN:VEVENT
DTSTART;TZID=Europe/Paris:20231005T090000
DTEND;TZID=Europe/Paris:20231005T160000
DTSTAMP:20260423T182803
CREATED:20230831T092723Z
LAST-MODIFIED:20230928T074529Z
UID:4696-1696496400-1696521600@www.snepfsu-strasbourg.net
SUMMARY:Stage PACTE/Carrière/Rémunération
DESCRIPTION:Le PACTE enseignant est arrivé dans les établissements scolaires au printemps dernier est a été le sujet de nombreuses discussions dans nos salles des professeurs avant les vacances. \nAprès de nombreuses approximations et déclarations parfois contradictoires\, le décret fixant clairement les contours du dispositif est paru au mois de juillet. \nLe SNEP-FSU Strasbourg vous propose en ce début d’année de venir passer une journée autour du thème Pacte/Carrière/Rémunération afin de comprendre tous les tenants et les aboutissant de ce nouveau mécanisme de gestion des personnels qui risque d’influencer durablement notre métier.\nMatin :\n\nPartage d’expériences autour de la mise en place du pacte\nLes conséquences du pacte sur les différents aspects de notre carrière\nPacte et conditions de travail\n\nAprès-midi :\n\nDébat contradictoire sur l’acceptation du pacte\nCe que dit le décret « pacte » du 19 juillet\nPossibilité d’action\n\nStage animé par les militant(e)s locaux\, et avec la présence pour débattre l’après-midi (à confirmer encore) de : \n\nArnaud Sigrist (Secrétaire académique du SNES-FSU Strasbourg)\nla FCPE 68.\n\nA bientôt. \nBenjamin MAILLOT \n\nComment s’inscrire ?\nS’inscrire en ligne ET déposer la demande à son chef d’établissement (envoi par mail également valable)\n \nIl vous faut donner une autorisation d’absence à votre chef d’établissement 1 mois avant  et vous inscrire sur le site du Snep Strasbourg dans cette rubrique. \nEn retard ? pas d’auto-censure ! Envoie quand même ta demande\, et contacte-nous en cas de difficultés.\n Conge-pour-formation-syndicale.docx \n\nIls/Elles sont déjà inscrit(e)sMathias Koby Frédéric Schwindenhammer Guillaume Lux Pierrick Meunier Isabelle Maillot TABITHA HELMLINGER Franck Terrin Christèle Urbany Christophe ANSEL M. WAGNER Benjamin Maillot Guillaume Leroux joelle HALDRIC Trussardi Cyrille Frédéric Greiner Cyprien Labreuche Sébastien ATRAS Marie-laure VONNE Johan Peck Stephanie Denni julie meyer nicolas CERUTTI
URL:https://www.snepfsu-strasbourg.net/event/stage-pacte-carriere-remuneration/
LOCATION:Collège Beatus Rhenanus\, 2 boulevard Charlemagne\, Selestat\, Grand Est\, 67600
CATEGORIES:Stages
ATTACH;FMTTYPE=image/jpeg:https://www.snepfsu-strasbourg.net/wp-content/uploads/2023/08/im-pacte.jpg
ORGANIZER;CN="Benjamin Maillot":MAILTO:s3-strasbourg@snepfsu.net
END:VEVENT
BEGIN:VEVENT
DTSTART;TZID=Europe/Paris:20231019T090000
DTEND;TZID=Europe/Paris:20231019T163000
DTSTAMP:20260423T182803
CREATED:20230831T095200Z
LAST-MODIFIED:20230831T100323Z
UID:4700-1697706000-1697733000@www.snepfsu-strasbourg.net
SUMMARY:STAGE TZR EPS 2023
DESCRIPTION:Le SNEP FSU continue de défendre les droits des TZR et d’aider les collègues dans leur mission au quotidien.\nDans ce but\, un stage spécifique sur la fonction de TZR en EPS\nau collège François Villon de Mulhouse\nle jeudi 19 octobre 2023 !\nTout ce qu’il y savoir sur cette mission particulière (affectations\, frais de déplacement\, textes\, etc) sera développé lors de cette journée. Pour les nouveaux TZR comme pour les anciens\, il est indispensable ! Alors venez nombreux pour poser vos questions et partager vos expériences! \nPour des questions d’organisation\, merci de vous inscrire  ci-dessous. \nVous devez aussi donner la demande d’autorisation ce jointe à votre établissement d’exercice\, un mois avant le stage. \nEn cas de questions\, contacter Isabelle Maillot au 06 64 91 79 50 –  isabelle.maillot@snepfsu-strasbourg.net \n\nPour vous inscrire \, il vous faut\n\nvous inscrire sur le site du Snep Strasbourg dans cette rubrique.\n\nET\n\ndonner une autorisation d’absence  DEMANDE-DE-CONGE-POUR-stage-TZR.docx à votre chef d’établissement avant le 13 septembre.\nSi tu as dépassé cette date\, contacte Isabelle Maillot pour connaître la marche à suivre !\n\n\n  \nLe repas sera organisé à l’extérieur du collège ( restaurant proche ) \n\nIls/Elles sont déjà inscrit(e)sBenjamin Maillot Clotilde Nancy Zoé Rodriguez Corentin Biron Julie BUATOIS Isabelle Maillot
URL:https://www.snepfsu-strasbourg.net/event/stage-tzr-eps-2023/
LOCATION:Collège Villon\, 26 Av. D.m.c\, Mulhouse\, 68200\, France
CATEGORIES:Stages
ATTACH;FMTTYPE=image/png:https://www.snepfsu-strasbourg.net/wp-content/uploads/2019/01/TZR.png
ORGANIZER;CN="Isabelle Maillot":MAILTO:isabelle.maillot@snepfsu-strasbourg.net
END:VEVENT
END:VCALENDAR