BEGIN:VCALENDAR
VERSION:2.0
PRODID:-//Le SNEP FSU Strasbourg - ECPv6.15.20//NONSGML v1.0//EN
CALSCALE:GREGORIAN
METHOD:PUBLISH
X-ORIGINAL-URL:https://www.snepfsu-strasbourg.net
X-WR-CALDESC:Évènements pour Le SNEP FSU Strasbourg
REFRESH-INTERVAL;VALUE=DURATION:PT1H
X-Robots-Tag:noindex
X-PUBLISHED-TTL:PT1H
BEGIN:VTIMEZONE
TZID:Europe/Paris
BEGIN:DAYLIGHT
TZOFFSETFROM:+0100
TZOFFSETTO:+0200
TZNAME:CEST
DTSTART:20220327T010000
END:DAYLIGHT
BEGIN:STANDARD
TZOFFSETFROM:+0200
TZOFFSETTO:+0100
TZNAME:CET
DTSTART:20221030T010000
END:STANDARD
BEGIN:DAYLIGHT
TZOFFSETFROM:+0100
TZOFFSETTO:+0200
TZNAME:CEST
DTSTART:20230326T010000
END:DAYLIGHT
BEGIN:STANDARD
TZOFFSETFROM:+0200
TZOFFSETTO:+0100
TZNAME:CET
DTSTART:20231029T010000
END:STANDARD
BEGIN:DAYLIGHT
TZOFFSETFROM:+0100
TZOFFSETTO:+0200
TZNAME:CEST
DTSTART:20240331T010000
END:DAYLIGHT
BEGIN:STANDARD
TZOFFSETFROM:+0200
TZOFFSETTO:+0100
TZNAME:CET
DTSTART:20241027T010000
END:STANDARD
END:VTIMEZONE
BEGIN:VEVENT
DTSTART;TZID=Europe/Paris:20231121T090000
DTEND;TZID=Europe/Paris:20231121T170000
DTSTAMP:20260423T165852
CREATED:20230904T133619Z
LAST-MODIFIED:20230907T145616Z
UID:4716-1700557200-1700586000@www.snepfsu-strasbourg.net
SUMMARY:Stage mutations Inter-académiques 2023
DESCRIPTION:Stage organisé à Sélestat\nEnvie de changer d’académie ? Le SNEP FSU Strasbourg vous accueille en présentiel pour préparer au mieux la phase de mutations interacadémiques. \nCe stage aura lieu le mardi 21 novembre 2023 de 9h00 à 17h00\n\nProgramme :\n\nPrésentation commentée des règles de mutation inter\nSuivi de questions / réponses\nL’après-midi : entretien individuel pour les syndiqués uniquement\n\n\nPour s’inscrire\, il vous faut : \n\ndonner une autorisation d’absence à votre chef d’établissement (Nous contacter en cas de difficultés)\n\n[Téléchargement introuvable]\nET \n\nVous inscrire sur en utilisant le formulaire sur cette page\n\n  \nRenseignements :       Benjamin Maillot 06 74 95 59 44 et Joëlle HALDRIC 06 17 17 35 92 \n\nIls/Elles sont déjà inscrit(e)sAudrey Windstein Benjamin MAILLOT isabelle Maillot Dorian MULLER Emma Seiler Eline MARZETTI Alan STECK joelle HALDRIC Pierrick Dalcanale lucie Sommer Elise Vagost Mathilde Thouret Christophe ansel Clotilde Nancy julie meyer CARINE HAMM
URL:https://www.snepfsu-strasbourg.net/event/stage-mutations-inter-academiques-2023/
LOCATION:INSPE\, INSPE\, 1 rue FROEHLICH\, Sélestat\, 67600\, France
CATEGORIES:Stages
ATTACH;FMTTYPE=image/png:https://www.snepfsu-strasbourg.net/wp-content/uploads/2020/02/voeu-mutations-e1580800394933.png
ORGANIZER;CN="Jo%C3%ABlle HALDRIC":MAILTO:joelle.haldric@orange.fr
END:VEVENT
BEGIN:VEVENT
DTSTART;TZID=Europe/Paris:20231123T080000
DTEND;TZID=Europe/Paris:20231123T170000
DTSTAMP:20260423T165852
CREATED:20231006T053550Z
LAST-MODIFIED:20231006T053550Z
UID:4720-1700726400-1700758800@www.snepfsu-strasbourg.net
SUMMARY:Stage péda Badminton
DESCRIPTION:Cette année le SNEP FSU Strasbourg organise un stage badminton ouvert aux collègues de collège et de lycée.\nDes situations de pratique sont prévues le matin et l’après-midi.\n\nL’intégralité de la formation se déroulera au gymnase Marguerite Yourcenar à Erstein\, jeudi 23 novembre de 9h00 à 16h30. Le rendez-vous est fixé directement au gymnase.\n\nLe stage sera animé par Claire Sackepey de l’académie de Dijon\, spécialiste de l’activité\, responsable nationale SNEP FSU\, groupe éducatif et concours.\n\nLe repas sera pris à la cantine collège Romain Rolland\, à quelques pas du gymnase.\n\n\nPour t’inscrire \, il faut\n\nt‘inscrire sur le site du Snep Strasbourg dans cette rubrique.\n\nET\n\ndonner une autorisation d’absence  [Téléchargement introuvable] à votre chef d’établissement avant le 23 octobre.Si tu as dépassé cette date\, contacte Frédéric Schwindenhammer pour connaître la marche à suivre ! : S2-67@snepfsu.net \n\n\n\n\n  \n  \nIls/Elles sont déjà inscrit(e)sElouan MARAJO Marie Josée DUBOIS Sylvie HOFFNER Camille GAUTHIER BARBARA RICCOBENE Samuel Delin Laura Lambert Christophe ANSEL Cédric Sur Marie BALLOT Bénédicte Ritzler Cédric Lacroix Hervé MINTSA-EYA Alex Lambert Anne Haller Sonia Khabet Anne Magnus INGRID RICHARD Maud Schunck Samuel LICHTLE guillaume lux ANTONIN BRIGLIA Pierrick Meunier Lucie MARCHARD Julie BUATOIS marc bitzenhofer Audrey Windstein Elodie Ginisty Carole Fourier Eric Giraud Mylène STOLTZ Victor Waqué Romain Delcourt Benjamin Maillot Elena Elena Valérie SCHOEPF Cécile EMY stephanie youpi denni Mathias Koby Thomas Schildknecht Carine HAMM-ALTMEYER Salomée Charbonnier Jean-Guillaume Most nicolas RICHARD Pauline Colom Denis MAETZ TABITHA HELMLINGER Corentin Rost Frédéric Schwindenhammer Vanessa Schindler Cyprien LABREUCHE Olivier Kretz Aurélia ESCH Sébastien ATRAS
URL:https://www.snepfsu-strasbourg.net/event/stage-peda-badminton/
LOCATION:Gymnase Margueritte Yourcnar Erstein\, 13 rue Victor Schoelcher\, Erstein\, 67150\, France
CATEGORIES:Stages
ATTACH;FMTTYPE=image/jpeg:https://www.snepfsu-strasbourg.net/wp-content/uploads/2021/09/JourneesEps.jpg
ORGANIZER;CN="Fr%C3%A9d%C3%A9ric Schwindenhammer":MAILTO:f.schwindenhammer@orange.fr
END:VEVENT
END:VCALENDAR