BEGIN:VCALENDAR
VERSION:2.0
PRODID:-//Le SNEP FSU Strasbourg - ECPv6.15.20//NONSGML v1.0//EN
CALSCALE:GREGORIAN
METHOD:PUBLISH
X-ORIGINAL-URL:https://www.snepfsu-strasbourg.net
X-WR-CALDESC:Évènements pour Le SNEP FSU Strasbourg
REFRESH-INTERVAL;VALUE=DURATION:PT1H
X-Robots-Tag:noindex
X-PUBLISHED-TTL:PT1H
BEGIN:VTIMEZONE
TZID:Europe/Paris
BEGIN:DAYLIGHT
TZOFFSETFROM:+0100
TZOFFSETTO:+0200
TZNAME:CEST
DTSTART:20230326T010000
END:DAYLIGHT
BEGIN:STANDARD
TZOFFSETFROM:+0200
TZOFFSETTO:+0100
TZNAME:CET
DTSTART:20231029T010000
END:STANDARD
BEGIN:DAYLIGHT
TZOFFSETFROM:+0100
TZOFFSETTO:+0200
TZNAME:CEST
DTSTART:20240331T010000
END:DAYLIGHT
BEGIN:STANDARD
TZOFFSETFROM:+0200
TZOFFSETTO:+0100
TZNAME:CET
DTSTART:20241027T010000
END:STANDARD
BEGIN:DAYLIGHT
TZOFFSETFROM:+0100
TZOFFSETTO:+0200
TZNAME:CEST
DTSTART:20250330T010000
END:DAYLIGHT
BEGIN:STANDARD
TZOFFSETFROM:+0200
TZOFFSETTO:+0100
TZNAME:CET
DTSTART:20251026T010000
END:STANDARD
END:VTIMEZONE
BEGIN:VEVENT
DTSTART;TZID=Europe/Paris:20240325T090000
DTEND;TZID=Europe/Paris:20240325T170000
DTSTAMP:20260423T112050
CREATED:20240119T150239Z
LAST-MODIFIED:20240126T062243Z
UID:4771-1711357200-1711386000@www.snepfsu-strasbourg.net
SUMMARY:Stage Mut Intra 2024 - Haut-Rhin
DESCRIPTION:Pas envie de laisser faire le hasard pour ta mutation ?\nLe SNEP FSU Strasbourg organise un stage mutations intra-académiques\nAu programme : \n\n9h – 12h : Présentation générale des règles du mouvement\, questions / réponses sur les principes généraux (Ouvert à tou.te.s)\n\nMulhouse : Local FSU 19 bouelvard Wallach (le même stage est organisé en même temps à Strasbourg : Local FSU 4 rue de Lausanne\, voir ici)\n\n\n14h – 17h : Entretien individuel pour les syndiqués (en cas de difficulté\, nous contacter)\n\n\n\nS’inscrire en ligne ET déposer la demande à son chef d’établissement (envoi par mail également valable)\n \nIl vous faut donner une \n	Demande de congé pour formation syndicale\n à votre chef d’établissement 1 mois avant  et vous inscrire sur le site du Snep Strasbourg dans cette rubrique. \n  \nEn retard ? pas d’auto-censure ! Envoie quand même ta demande\, et contacte-nous en cas de difficultés.\nIls/Elles sont déjà inscrit(e)sCorentin Biron Benjamin Maillot Bénédicte Ritzler morgane werling Julie Labarelle ISABELLE MAILLOT Maxime Morand
URL:https://www.snepfsu-strasbourg.net/event/stage-mut-intra-2024-haut-rhin/
LOCATION:Local FSU Mulhouse\, 19 boulevard Wallach\, Mulhouse\, 68200\, France
CATEGORIES:Stages
ATTACH;FMTTYPE=image/jpeg:https://www.snepfsu-strasbourg.net/wp-content/uploads/2021/02/8-mutation-1.jpg
ORGANIZER;CN="Benjamin Maillot":MAILTO:s3-strasbourg@snepfsu.net
END:VEVENT
BEGIN:VEVENT
DTSTART;TZID=Europe/Paris:20240325T090000
DTEND;TZID=Europe/Paris:20240325T170000
DTSTAMP:20260423T112050
CREATED:20240126T062049Z
LAST-MODIFIED:20240126T062144Z
UID:4774-1711357200-1711386000@www.snepfsu-strasbourg.net
SUMMARY:Stage Mut Intra 2024 - Bas-Rhin
DESCRIPTION:Pas envie de laisser faire le hasard pour ta mutation ?\nLe SNEP FSU Strasbourg organise un stage mutations intra-académiques\nAu programme : \n\n9h – 12h : Présentation générale des règles du mouvement\, questions / réponses sur les principes généraux (Ouvert à tou.te.s)\n\nStrasbourg : Local FSU 4 rue de Lausanne (le même stage est organisé en même temps à Mulhouse : Local FSU 19 bouelvard Wallach voir ici)\n\n\n14h – 17h : Entretien individuel pour les syndiqués (en cas de difficulté\, nous contacter)\n\n\n\nS’inscrire en ligne ET déposer la demande à son chef d’établissement (envoi par mail également valable)\n \nIl vous faut donner une \n	Demande de congé pour formation syndicale\n à votre chef d’établissement 1 mois avant  et vous inscrire sur le site du Snep Strasbourg dans cette rubrique. \n  \nEn retard ? pas d’auto-censure ! Envoie quand même ta demande\, et contacte-nous en cas de difficultés.\nIls/Elles sont déjà inscrit(e)sPhilippe Echalier Axel Burgun Romane Saillard Lucie Sommer Anne Chardin Nolwenn Schnitzler julie meyer Sonia Camus Audrey Windstein Marie-hélène Bitsch Sophie Ernwein Morgane Werling Louise Schwebel joelle HALDRIC sophie Tritz
URL:https://www.snepfsu-strasbourg.net/event/stage-mut-intra-2024-bas-rhin/
LOCATION:Local FSU Strasbourg\, 4 rue de Lausanne\, Strasbourg\, France
CATEGORIES:Stages
ATTACH;FMTTYPE=image/jpeg:https://www.snepfsu-strasbourg.net/wp-content/uploads/2021/02/8-mutation-1.jpg
ORGANIZER;CN="Jo%C3%ABlle HALDRIC":MAILTO:joelle.haldric@orange.fr
END:VEVENT
END:VCALENDAR