BEGIN:VCALENDAR
VERSION:2.0
PRODID:-//Le SNEP FSU Strasbourg - ECPv6.15.20//NONSGML v1.0//EN
CALSCALE:GREGORIAN
METHOD:PUBLISH
X-WR-CALNAME:Le SNEP FSU Strasbourg
X-ORIGINAL-URL:https://www.snepfsu-strasbourg.net
X-WR-CALDESC:Évènements pour Le SNEP FSU Strasbourg
REFRESH-INTERVAL;VALUE=DURATION:PT1H
X-Robots-Tag:noindex
X-PUBLISHED-TTL:PT1H
BEGIN:VTIMEZONE
TZID:Europe/Paris
BEGIN:DAYLIGHT
TZOFFSETFROM:+0100
TZOFFSETTO:+0200
TZNAME:CEST
DTSTART:20230326T010000
END:DAYLIGHT
BEGIN:STANDARD
TZOFFSETFROM:+0200
TZOFFSETTO:+0100
TZNAME:CET
DTSTART:20231029T010000
END:STANDARD
BEGIN:DAYLIGHT
TZOFFSETFROM:+0100
TZOFFSETTO:+0200
TZNAME:CEST
DTSTART:20240331T010000
END:DAYLIGHT
BEGIN:STANDARD
TZOFFSETFROM:+0200
TZOFFSETTO:+0100
TZNAME:CET
DTSTART:20241027T010000
END:STANDARD
BEGIN:DAYLIGHT
TZOFFSETFROM:+0100
TZOFFSETTO:+0200
TZNAME:CEST
DTSTART:20250330T010000
END:DAYLIGHT
BEGIN:STANDARD
TZOFFSETFROM:+0200
TZOFFSETTO:+0100
TZNAME:CET
DTSTART:20251026T010000
END:STANDARD
END:VTIMEZONE
BEGIN:VEVENT
DTSTART;TZID=Europe/Paris:20240418T090000
DTEND;TZID=Europe/Paris:20240418T163000
DTSTAMP:20260423T092434
CREATED:20240223T140722Z
LAST-MODIFIED:20240223T140722Z
UID:4817-1713430800-1713457800@www.snepfsu-strasbourg.net
SUMMARY:L'EPS au tournant de l'écologie : Le Retour !
DESCRIPTION:Si la bifurcation écologique fait partie des mandats du SNEP FSU depuis le congrès de Porticio en 2021\, cela fait bien longtemps que notre syndicat s’interroge et fait des propositions en ce sens\, notamment sur les installations sportives. \nNous proposons de vous présenter l’état de nos réflexions\, nos pistes de travail\, et d’avancer sur cette question en mode participatif : nous avons tous des idées et des propositions\, venez nous présenter les vôtres ! \nÉbauche de programme non exhaustif\, on pourrait réfléchir sur :\n\nLe matériel en EPS\, de l’achat à la réparation ?\nConstruction / rénovation de piscines et installations sportives\nEt l’UNSS dans tout ça ? Comment faire pour ses déplacements ?\nÉcologie et EPS au quotidien : faire évoluer sa programmation ? Intégrer cet enjeu aux apprentissages ?\n\nProgramme prévisionnel :\nMatin : Echanges sur l’EPS écologique\, le sport scolaire bas carbone\, les voyages scolaires éducatifs EPS locaux\, le développement durable dans nos établissements\, la pratique sportive lors d’épisodes de canicule… \nRepas sur place. \nAprès-midi : Pratique du canoë\, du kayak ou du stand-up paddle. En réflexion avec la transition écologique indispensable à nos modes de vie et à notre métier. » \n\nVous trouverez des ressources pour s’informer sur notre page\nTournant écologique de l’EPS \n  \n\nComment s’inscrire ?\nS’inscrire en ligne ET déposer la demande à son chef d’établissement (envoi par mail également valable)\n \nIl vous faut donner une autorisation d’absence à votre chef d’établissement 1 mois avant  et vous inscrire sur le site du Snep Strasbourg dans cette rubrique. \nEn retard ? pas d’auto-censure ! Envoie quand même ta demande\, et contacte-nous en cas de difficultés.\n\n	Demande de congé pour formation syndicale\n\nIls/Elles sont déjà inscrit(e)sCyprien LABREUCHE Frédéric Schwindenhammer Sébastien ATRAS Thomas Schildknecht Marc Lavier Guillaume Lachevre Carine Hamm Céline WALTER Frédéric Greiner Bertrand Horny Christophe ANSEL Lucie MARCHARD Régis EY Nicolas Nasso Stephane Kimmich Emmanuelle Biava Benedicte Kuhn Mélaine Neff Damien Tolazzi Emilie BASTIN Elisa Robert vincent boye
URL:https://www.snepfsu-strasbourg.net/event/leps-au-tournant-de-lecologie-le-retour/
LOCATION:Base de canoë-kayak de Mulhouse et Riedisheim\, 19 Rue de Modenheim\, Riedisheim\, Grand-Est\, 68400\, France
CATEGORIES:Stages
ATTACH;FMTTYPE=image/jpeg:https://www.snepfsu-strasbourg.net/wp-content/uploads/2024/02/30190805_l_normal_none-scaled.jpg
ORGANIZER;CN="Christophe Ansel":MAILTO:christophe.ansel@snepfsu-strasbourg.net
END:VEVENT
END:VCALENDAR