BEGIN:VCALENDAR
VERSION:2.0
PRODID:-//Le SNEP FSU Strasbourg - ECPv6.15.20//NONSGML v1.0//EN
CALSCALE:GREGORIAN
METHOD:PUBLISH
X-WR-CALNAME:Le SNEP FSU Strasbourg
X-ORIGINAL-URL:https://www.snepfsu-strasbourg.net
X-WR-CALDESC:Évènements pour Le SNEP FSU Strasbourg
REFRESH-INTERVAL;VALUE=DURATION:PT1H
X-Robots-Tag:noindex
X-PUBLISHED-TTL:PT1H
BEGIN:VTIMEZONE
TZID:Europe/Paris
BEGIN:DAYLIGHT
TZOFFSETFROM:+0100
TZOFFSETTO:+0200
TZNAME:CEST
DTSTART:20230326T010000
END:DAYLIGHT
BEGIN:STANDARD
TZOFFSETFROM:+0200
TZOFFSETTO:+0100
TZNAME:CET
DTSTART:20231029T010000
END:STANDARD
BEGIN:DAYLIGHT
TZOFFSETFROM:+0100
TZOFFSETTO:+0200
TZNAME:CEST
DTSTART:20240331T010000
END:DAYLIGHT
BEGIN:STANDARD
TZOFFSETFROM:+0200
TZOFFSETTO:+0100
TZNAME:CET
DTSTART:20241027T010000
END:STANDARD
BEGIN:DAYLIGHT
TZOFFSETFROM:+0100
TZOFFSETTO:+0200
TZNAME:CEST
DTSTART:20250330T010000
END:DAYLIGHT
BEGIN:STANDARD
TZOFFSETFROM:+0200
TZOFFSETTO:+0100
TZNAME:CET
DTSTART:20251026T010000
END:STANDARD
END:VTIMEZONE
BEGIN:VEVENT
DTSTART;TZID=Europe/Paris:20241125T090000
DTEND;TZID=Europe/Paris:20241125T160000
DTSTAMP:20260422T223812
CREATED:20240922T090233Z
LAST-MODIFIED:20241008T123918Z
UID:4949-1732525200-1732550400@www.snepfsu-strasbourg.net
SUMMARY:Stage TZR/Contractuels
DESCRIPTION:Le SNEP FSU continue de défendre les droits des TZR et des contractuels et d’aider les collègues dans leur mission au quotidien.\nDans ce but\, un stage spécifique sur la fonction de TZR et celle de contractuel en EPS.\nATTENTION  CHANGEMENT DE LIEU :\n\nla Fabrik 1 allée Georges Charpak à Sélestat\nle lundi 25 novembre 2024 de 9h à 16h30 !\nTout ce qu’il y a à savoir sur ces missions particulières (affectations\, frais de déplacement\, textes\, etc) sera développé lors de cette journée. Pour les nouveaux TZR/contractuels comme pour les anciens\, il est indispensable ! Alors venez nombreux pour poser vos questions et partager vos expériences! \nPour des questions d’organisation\, merci de vous inscrire  ci-dessous. \nLa demande d’autorisation à donner à votre établissement d’exercice\, un mois avant le stage vous sera envoyée de façon automatique par mail après votre inscription. \nEn cas de questions\, contacter Isabelle Maillot au 06 64 91 79 50 –  isabelle.maillot@snepfsu-strasbourg.net \n\nIls/Elles sont déjà inscrit(e)sZoé Rodriguez Julie Meyer Benjamin MAILLOT Jean-Baptiste Vivion Nicolas Nasso Christophe ANSEL Isabelle Maillot
URL:https://www.snepfsu-strasbourg.net/event/stage-tzr-contractuels/
LOCATION:La Fabrik\, 1 allée Georges Charpak\, Selestat\, Grand Est\, 67600\, France
CATEGORIES:Stages
ATTACH;FMTTYPE=image/jpeg:https://www.snepfsu-strasbourg.net/wp-content/uploads/2024/09/precarite.jpg
ORGANIZER;CN="Isabelle Maillot":MAILTO:isabelle.maillot@snepfsu-strasbourg.net
END:VEVENT
BEGIN:VEVENT
DTSTART;TZID=Europe/Paris:20241125T090000
DTEND;TZID=Europe/Paris:20241125T160000
DTSTAMP:20260422T223812
CREATED:20240926T070827Z
LAST-MODIFIED:20241008T124001Z
UID:4988-1732525200-1732550400@www.snepfsu-strasbourg.net
SUMMARY:Stage Mut Inter 2024
DESCRIPTION:Le SNEP FSU aide les collègues dans la formulation de leurs vœux de mutations.\nDans ce but\, un stage mutations inter académique en EPS est organisé\nATTENTION CHANGEMENT DE LIEU :\nla Fabrik 1 allée Georges Charpak à Sélestat\nle lundi 25 novembre 2024 de 9h à 16h00 !\nTout savoir sur le mouvement ! \nLe matin est ouvert à tous : nous vous donnons les informations générales ainsi que la stratégie préconisée. \nL’après-midi est réservée aux syndiqués où nous traitons des cas individuels \n\nPour t’inscrire\, remplis le formulaire ci-dessous et tu obtiendras le modèle de demande d’autorisation d’absence à remettre à ton / ta chef/fe d’établissement au moins 1 mois avant le stage.\n \n Joëlle HALDRIC 06 17 17 35 92 \n\nIls/Elles sont déjà inscrit(e)sVanessa SCHINDLER Félicie Roehrig Erwan Loewenguth Charline Heitzmann Benjamin MAILLOT Mathieu Dieudonné Léa HUSSER Justine Kintz-Vonderscher Antonin Briglia joelle HALDRIC
URL:https://www.snepfsu-strasbourg.net/event/stage-mut-inter-2024/
LOCATION:La Fabrik\, 1 allée Georges Charpak\, Selestat\, Grand Est\, 67600\, France
CATEGORIES:Stages
ATTACH;FMTTYPE=image/png:https://www.snepfsu-strasbourg.net/wp-content/uploads/2020/02/voeu-mutations-e1580800394933.png
END:VEVENT
END:VCALENDAR