BEGIN:VCALENDAR
VERSION:2.0
PRODID:-//Le SNEP FSU Strasbourg - ECPv6.15.20//NONSGML v1.0//EN
CALSCALE:GREGORIAN
METHOD:PUBLISH
X-WR-CALNAME:Le SNEP FSU Strasbourg
X-ORIGINAL-URL:https://www.snepfsu-strasbourg.net
X-WR-CALDESC:Évènements pour Le SNEP FSU Strasbourg
REFRESH-INTERVAL;VALUE=DURATION:PT1H
X-Robots-Tag:noindex
X-PUBLISHED-TTL:PT1H
BEGIN:VTIMEZONE
TZID:Europe/Paris
BEGIN:DAYLIGHT
TZOFFSETFROM:+0100
TZOFFSETTO:+0200
TZNAME:CEST
DTSTART:20240331T010000
END:DAYLIGHT
BEGIN:STANDARD
TZOFFSETFROM:+0200
TZOFFSETTO:+0100
TZNAME:CET
DTSTART:20241027T010000
END:STANDARD
BEGIN:DAYLIGHT
TZOFFSETFROM:+0100
TZOFFSETTO:+0200
TZNAME:CEST
DTSTART:20250330T010000
END:DAYLIGHT
BEGIN:STANDARD
TZOFFSETFROM:+0200
TZOFFSETTO:+0100
TZNAME:CET
DTSTART:20251026T010000
END:STANDARD
BEGIN:DAYLIGHT
TZOFFSETFROM:+0100
TZOFFSETTO:+0200
TZNAME:CEST
DTSTART:20260329T010000
END:DAYLIGHT
BEGIN:STANDARD
TZOFFSETFROM:+0200
TZOFFSETTO:+0100
TZNAME:CET
DTSTART:20261025T010000
END:STANDARD
END:VTIMEZONE
BEGIN:VEVENT
DTSTART;TZID=Europe/Paris:20250130T090000
DTEND;TZID=Europe/Paris:20250131T170000
DTSTAMP:20260422T192917
CREATED:20241128T072205Z
LAST-MODIFIED:20241128T072458Z
UID:5004-1738227600-1738342800@www.snepfsu-strasbourg.net
SUMMARY:Stage APPN Ski de fond\, sécurité et risques\, Unss et enjeux de l’environnement local
DESCRIPTION:Le SNEP FSU Strasbourg proposera cette année un stage sur les APPN jeudi 30 et vendredi 31 janvier 2025\, avec deux demi-journées de pratiques en ski de fond (classique et skating). Les participants s’engagent sur deux jours et une nuitée au chalet Saint-Antoine du ski club du Markstein-Ranspach. \nLes questions en lien avec l’organisation et la sécurité feront l’objet de discussions\, tout comme le développement et l’avenir de l’UNSS.  \nPour participer au stage sur les deux jours\, il faudra prévoir son matériel. Le Speck sport au Markstein (0389387185) à 5’ du chalet vous permettra de louer le matériel nécessaire si besoin. Le jeudi 30 sera une demi-journée de ski de fond classique (13€) et le vendredi 31 sera une demi-journée de ski de fond skating (16€). Une frontale sera également nécessaire. Anticiper au plus tôt. \nLe repas du jeudi soir et du vendredi midi seront pris en charge par le SNEP. L’hébergement (20€)\, le matériel (demi-journée classique (13€)\, demi-journée skating (16€) et les forfaits (13€ deux jours) seront à vos frais. Néanmoins\, Les adhérents du SNEP auront les forfait pris en charge. \nLe déroulé du stage demandera de pratiquer deux demi-journées pour pleinement vivre ce stage. \n  \nJeudi 30/01 matinée :\n\n\n\nPratique du ski de fond classique\, vivre le continuum d’apprentissage.\n\n\nRepas du midi partagé (apportez vos spécialités)\n\nJeudi 30/01 aprem en salle :\n\n\n\nPartie théorique du continuum d’apprentissage\, protocole de sécurité APPN\, risques et responsabilités\, organisation d’une sortie APPN.\nJeu de cohésion\, pratique en extérieur (frontale nécessaire)\nDébats sur l’évolution de la pratique\n\n\n\nRepas du soir géré par le SNEP\n  \nVendredi 31/01 matinée\n\n\n\nPratique du ski de fond skating\, vivre le continuum d’apprentissage\n\n\nRepas du midi (SNEP)\n\nVendredi 31/01 aprem\n\n\n\nDébat sur l’UNSS\nBilan du stage\nRangement du chalet\n\n\n\n  \nDans l’attente de partager cette journée\, ensemble. \nVous pouvez nous contacter pour divers renseignements. 06 74 95 59 44. \n\nPour t’inscrire\, remplis le formulaire ci-dessous et tu obtiendras le modèle de demande d’autorisation d’absence à remettre à ton / ta chef/fe d’établissement au moins 1 mois avant le stage.\nEn retard ? pas d’auto-censure ! Envoie quand même ta demande\, et contacte-nous en cas de difficultés.\n\nIls/Elles sont déjà inscrit(e)sMatthieu Baltzinger Marie-Laure CARRE Ingrid Richard Damien TOLAZZI nicolas richard Pierrick Meunier Guillaume LEROUX Elisa Robert Cindy Erb BARBARA RICCOBENE Cyprien Labreuche Christophe ANSEL Nicolas Nasso Samuel Delin Noé Jung Lucie MARCHARD Yannick Langlois SANDDY CABIGLIERA Julien Schnebelen Daniele WATZKY Stephane Kimmich guillaume lux Franck Terrin Victor Waqué Céline WALTER Frédéric Schwindenhammer Nicolas Cerutti Olivier Kretz Isabelle Maillot Julie Buatois Benjamin Maillot Antonin Briglia
URL:https://www.snepfsu-strasbourg.net/event/stage-appn-ski-de-fond-securite-et-risques-unss-et-enjeux-de-lenvironnement-local/
LOCATION:chalet Saint Antoine Ranspach\, 26a route Nationale\, RANSPACH\, Grand Est\, 68470\, France
CATEGORIES:Stages
ATTACH;FMTTYPE=image/jpeg:https://www.snepfsu-strasbourg.net/wp-content/uploads/2024/11/ski.jpg
ORGANIZER;CN="Benjamin Maillot":MAILTO:s3-strasbourg@snepfsu.net
END:VEVENT
END:VCALENDAR