BEGIN:VCALENDAR
VERSION:2.0
PRODID:-//Le SNEP FSU Strasbourg - ECPv6.15.20//NONSGML v1.0//EN
CALSCALE:GREGORIAN
METHOD:PUBLISH
X-ORIGINAL-URL:https://www.snepfsu-strasbourg.net
X-WR-CALDESC:Évènements pour Le SNEP FSU Strasbourg
REFRESH-INTERVAL;VALUE=DURATION:PT1H
X-Robots-Tag:noindex
X-PUBLISHED-TTL:PT1H
BEGIN:VTIMEZONE
TZID:Europe/Paris
BEGIN:DAYLIGHT
TZOFFSETFROM:+0100
TZOFFSETTO:+0200
TZNAME:CEST
DTSTART:20240331T010000
END:DAYLIGHT
BEGIN:STANDARD
TZOFFSETFROM:+0200
TZOFFSETTO:+0100
TZNAME:CET
DTSTART:20241027T010000
END:STANDARD
BEGIN:DAYLIGHT
TZOFFSETFROM:+0100
TZOFFSETTO:+0200
TZNAME:CEST
DTSTART:20250330T010000
END:DAYLIGHT
BEGIN:STANDARD
TZOFFSETFROM:+0200
TZOFFSETTO:+0100
TZNAME:CET
DTSTART:20251026T010000
END:STANDARD
BEGIN:DAYLIGHT
TZOFFSETFROM:+0100
TZOFFSETTO:+0200
TZNAME:CEST
DTSTART:20260329T010000
END:DAYLIGHT
BEGIN:STANDARD
TZOFFSETFROM:+0200
TZOFFSETTO:+0100
TZNAME:CET
DTSTART:20261025T010000
END:STANDARD
END:VTIMEZONE
BEGIN:VEVENT
DTSTART;TZID=Europe/Paris:20250324T090000
DTEND;TZID=Europe/Paris:20250324T160000
DTSTAMP:20260422T163325
CREATED:20250109T135220Z
LAST-MODIFIED:20250109T135646Z
UID:5067-1742806800-1742832000@www.snepfsu-strasbourg.net
SUMMARY:Stage Mut Intra 2025 - Haut-Rhin
DESCRIPTION:Pas envie de laisser faire le hasard pour ta mutation ?\nLe SNEP FSU Strasbourg organise un stage mutations intra-académiques\nAu programme : \n\n9h – 12h : Présentation générale des règles du mouvement\, questions / réponses sur les principes généraux (Ouvert à tou.te.s)\n\nMulhouse : Local FSU 19 bouelvard Wallach (le même stage est organisé en même temps à Strasbourg : Local FSU 4 rue de Lausanne\, voir ici)\n\n\n14h – 17h : Entretien individuel pour les syndiqués (en cas de difficulté\, nous contacter)\n\n\n\nPour t’inscrire\, remplis le formulaire ci-dessous et tu obtiendras le modèle de demande d’autorisation d’absence à remettre à ton / ta chef/fe d’établissement au moins 1 mois avant le stage.\nEn retard ? pas d’auto-censure ! Envoie quand même ta demande\, et contacte-nous en cas de difficultés.\n\nIls/Elles sont déjà inscrit(e)sAntonin OTT François Reylé Clément Thouret Corentin Biron-Salmon Eric Martinez Geoffrey Klinger tanguy pigot Celine Giraudon Isabelle Maillot Vanessa SCHINDLER
URL:https://www.snepfsu-strasbourg.net/event/stage-mut-intra-2025-haut-rhin/
LOCATION:Local FSU Mulhouse\, 19 boulevard Wallach\, Mulhouse\, 68200\, France
CATEGORIES:Stages
ATTACH;FMTTYPE=image/jpeg:https://www.snepfsu-strasbourg.net/wp-content/uploads/2021/02/8-mutation-1.jpg
ORGANIZER;CN="Benjamin Maillot":MAILTO:s3-strasbourg@snepfsu.net
END:VEVENT
BEGIN:VEVENT
DTSTART;TZID=Europe/Paris:20250324T090000
DTEND;TZID=Europe/Paris:20250324T170000
DTSTAMP:20260422T163325
CREATED:20250109T135619Z
LAST-MODIFIED:20250109T135939Z
UID:5069-1742806800-1742835600@www.snepfsu-strasbourg.net
SUMMARY:Stage Mut Intra 2025 - Bas-Rhin
DESCRIPTION:Pas envie de laisser faire le hasard pour ta mutation ?\nLe SNEP FSU Strasbourg organise un stage mutations intra-académiques\nAu programme : \n\n9h – 12h : Présentation générale des règles du mouvement\, questions / réponses sur les principes généraux (Ouvert à tou.te.s)\n\nStrasbourg : Local FSU 4 rue de Lausanne (le même stage est organisé en même temps à Mulhouse : Local FSU 19 bouelvard Wallach voir ici)\n\n\n14h – 17h : Entretien individuel pour les syndiqués (en cas de difficulté\, nous contacter)\n\n\n\nPour t’inscrire\, remplis le formulaire ci-dessous et tu obtiendras le modèle de demande d’autorisation d’absence à remettre à ton / ta chef/fe d’établissement au moins 1 mois avant le stage.\nEn retard ? pas d’auto-censure ! Envoie quand même ta demande\, et contacte-nous en cas de difficultés.\n\nIls/Elles sont déjà inscrit(e)sMickaël Walliser Robin Ganter Blandine Frossard Baptiste MERTZ julie meyer morgane werling Romane Saillard Alexia De diego Alan Steck Christophe Gomes Julia Vitali Malaury Hiebel joelle haldric Félicie Roehrig Nolwenn Schnitzler Anne Gicquel Eric Martinez Marie-hélène Bitsch
URL:https://www.snepfsu-strasbourg.net/event/stage-mut-intra-2025-bas-rhin/
LOCATION:Local FSU Strasbourg\, 4 rue de Lausanne\, Strasbourg\, France
CATEGORIES:Stages
ATTACH;FMTTYPE=image/jpeg:https://www.snepfsu-strasbourg.net/wp-content/uploads/2021/02/8-mutation-1.jpg
ORGANIZER;CN="Jo%C3%ABlle HALDRIC":MAILTO:joelle.haldric@orange.fr
END:VEVENT
END:VCALENDAR