BEGIN:VCALENDAR
VERSION:2.0
PRODID:-//Le SNEP FSU Strasbourg - ECPv6.15.20//NONSGML v1.0//EN
CALSCALE:GREGORIAN
METHOD:PUBLISH
X-ORIGINAL-URL:https://www.snepfsu-strasbourg.net
X-WR-CALDESC:Évènements pour Le SNEP FSU Strasbourg
REFRESH-INTERVAL;VALUE=DURATION:PT1H
X-Robots-Tag:noindex
X-PUBLISHED-TTL:PT1H
BEGIN:VTIMEZONE
TZID:Europe/Paris
BEGIN:DAYLIGHT
TZOFFSETFROM:+0100
TZOFFSETTO:+0200
TZNAME:CEST
DTSTART:20240331T010000
END:DAYLIGHT
BEGIN:STANDARD
TZOFFSETFROM:+0200
TZOFFSETTO:+0100
TZNAME:CET
DTSTART:20241027T010000
END:STANDARD
BEGIN:DAYLIGHT
TZOFFSETFROM:+0100
TZOFFSETTO:+0200
TZNAME:CEST
DTSTART:20250330T010000
END:DAYLIGHT
BEGIN:STANDARD
TZOFFSETFROM:+0200
TZOFFSETTO:+0100
TZNAME:CET
DTSTART:20251026T010000
END:STANDARD
BEGIN:DAYLIGHT
TZOFFSETFROM:+0100
TZOFFSETTO:+0200
TZNAME:CEST
DTSTART:20260329T010000
END:DAYLIGHT
BEGIN:STANDARD
TZOFFSETFROM:+0200
TZOFFSETTO:+0100
TZNAME:CET
DTSTART:20261025T010000
END:STANDARD
END:VTIMEZONE
BEGIN:VEVENT
DTSTART;TZID=Europe/Paris:20251215T080000
DTEND;TZID=Europe/Paris:20251216T160000
DTSTAMP:20260422T024749
CREATED:20251002T114515Z
LAST-MODIFIED:20251013T053114Z
UID:5119-1765785600-1765900800@www.snepfsu-strasbourg.net
SUMMARY:Stage Volley-ball
DESCRIPTION:Journées de l’EPS sur le thème du volley-ball du débutant au confirmé. \nDu lundi 15/12/2025 9 heures au mardi 16/12/2025 16 heures.\nDeux jours de pratique\, d’échanges et de discussions autour du volley-ball en EPS. \nGymnase du collège Pierre Plimlin\, 14 rue Arthur Ashe\, 68350 Brunstatt-Didenheim. \nSoirée conviviale le 15/12 et hébergement possible sur demande (antonin.briglia@gmail.com) \n\nAfin de garantir des conditions de pratique correctes\, nous avons été dans l’ obligation de clôturer les inscriptions au stage VB en les limitant à 40. Pour les collègues n’ayant pas pu s’inscrire\, nous vous proposons de vous signaler après d’Antonin Briglia par retour de mail (mail). En fonction du nombre de retours\, nous organiserons un deuxième stage VB au printemps. Merci pour votre compréhension\n\nIls/Elles sont déjà inscrit(e)sGilles Hassler Isabelle Maillot Frédéric Greiner Danièle Pion Mathieu Dadolle Stéphane becker Sébastien Mutschler Virginie Siramis Arnaud FLUHR pierre-luc castille Marie Engel JULIEN SCHNEBELEN Nicolas Richard Jérome Tschaen Corentin Rost Olivier Kretz Benedicte Ritzler Noé Jung Séverine Kocher Elise MEYER barbara riccobene Antonin Briglia Vanessa Schindler Benjamin Maillot Frédéric Schwindenhammer Pauline KELLER Philippe PROCH Mar Lavier Lynda Neufeld Lucie MARCHARD Jonathan REGISSER ingrid richard Murielle FANGER vincent boye joelle HALDRIC Camille Bellenoue Charlie Braun Margaux Dru Stephane Kimmich Jérôme Dietsch Geoffrey Klinger Anne HOUOT Quentin JOLY Sébastien CHANE-LAP Sébastien ATRAS
URL:https://www.snepfsu-strasbourg.net/event/stage-volley-ball/
LOCATION:Collège Pierre Pflimlin – Brunstatt\, 14 rue Arthur Ashe\, Brunstatt-Didenheim\, Grand-Est\, 68350\, France
CATEGORIES:Stages
ATTACH;FMTTYPE=image/jpeg:https://www.snepfsu-strasbourg.net/wp-content/uploads/2025/10/journeesEPSinspirantes.jpg
ORGANIZER;CN="Antonin Briglia":MAILTO:antonin.briglia@gmail.com
END:VEVENT
END:VCALENDAR