BEGIN:VCALENDAR
VERSION:2.0
PRODID:-//Le SNEP FSU Strasbourg - ECPv6.15.20//NONSGML v1.0//EN
CALSCALE:GREGORIAN
METHOD:PUBLISH
X-ORIGINAL-URL:https://www.snepfsu-strasbourg.net
X-WR-CALDESC:Évènements pour Le SNEP FSU Strasbourg
REFRESH-INTERVAL;VALUE=DURATION:PT1H
X-Robots-Tag:noindex
X-PUBLISHED-TTL:PT1H
BEGIN:VTIMEZONE
TZID:Europe/Paris
BEGIN:DAYLIGHT
TZOFFSETFROM:+0100
TZOFFSETTO:+0200
TZNAME:CEST
DTSTART:20250330T010000
END:DAYLIGHT
BEGIN:STANDARD
TZOFFSETFROM:+0200
TZOFFSETTO:+0100
TZNAME:CET
DTSTART:20251026T010000
END:STANDARD
BEGIN:DAYLIGHT
TZOFFSETFROM:+0100
TZOFFSETTO:+0200
TZNAME:CEST
DTSTART:20260329T010000
END:DAYLIGHT
BEGIN:STANDARD
TZOFFSETFROM:+0200
TZOFFSETTO:+0100
TZNAME:CET
DTSTART:20261025T010000
END:STANDARD
BEGIN:DAYLIGHT
TZOFFSETFROM:+0100
TZOFFSETTO:+0200
TZNAME:CEST
DTSTART:20270328T010000
END:DAYLIGHT
BEGIN:STANDARD
TZOFFSETFROM:+0200
TZOFFSETTO:+0100
TZNAME:CET
DTSTART:20271031T010000
END:STANDARD
END:VTIMEZONE
BEGIN:VEVENT
DTSTART;TZID=Europe/Paris:20260122T090000
DTEND;TZID=Europe/Paris:20260122T170000
DTSTAMP:20260422T012007
CREATED:20251202T105821Z
LAST-MODIFIED:20251202T140552Z
UID:5138-1769072400-1769101200@www.snepfsu-strasbourg.net
SUMMARY:Congrès académique du SNEP-FSU de Strasbourg
DESCRIPTION:Le jeudi 22 janvier 2026 de 9h00 à 17h00 au Lycée Dumas de Illkirch-Graffenstaden\nPour échanger autour des 4 thèmes suivants\, piliers de notre action syndicale:\n\nThème 1 : Redonner à l école publique et à l EPS les moyens d’émanciper toutes les jeunesses.\nThème 2 : Démocratiser l accès au sport\, à la culture et aux loisirs\, une urgence pour la jeunesse et le pays.\nThème 3 : Reconnaître l engagement des agents de la fonction publique au service de l intérêt général.\nThème 4: Quel syndicalisme pour améliorer nos métiers et transformer l avenir.\n\n\nAttention\, participation réservée aux adhérents du SNEP FSU !\n\nInscrits-toi dans le formulaire ci-dessous\, tu recevras un e-mail de confirmation\nDépose la  \n	Convocation au congrès académique du SNEP FSU Strsbourg 2026\n au secrétariat de ton établissement. Cette convocation vaut autorisation d’absence.\n\nN.B.: s’agissant d’un congrès syndical\, ce n’est pas la demande d’absence pour formation syndicale mais bien la convocation qui est à transmettre. \n\nIls/Elles sont déjà inscrit(e)sIsabelle Maillot Joelle HALDRIC Angelo ROMANO Benjamin MAILLOT Emmanuel ROEHRIG christophe ANSEL BARBARA RICCOBENE Noé JUNG Victor Waqué Frédéric Schwindenhammer Antonin Briglia Frédéric Greiner
URL:https://www.snepfsu-strasbourg.net/event/congres-academique-du-snep-fsu-de-strasbourg/
LOCATION:Lycée Alexandre Dumas – Illkirch\, 2 rue Eugénie Brazier\, Illkirch-Graffenstaden\, 67400\, France
CATEGORIES:Congrès
ATTACH;FMTTYPE=image/jpeg:https://www.snepfsu-strasbourg.net/wp-content/uploads/2024/01/p2-1er-fev-720.jpg
ORGANIZER;CN="Benjamin Maillot":MAILTO:s3-strasbourg@snepfsu.net
END:VEVENT
END:VCALENDAR