BEGIN:VCALENDAR
VERSION:2.0
PRODID:-//Le SNEP FSU Strasbourg - ECPv6.15.20//NONSGML v1.0//EN
CALSCALE:GREGORIAN
METHOD:PUBLISH
X-WR-CALNAME:Le SNEP FSU Strasbourg
X-ORIGINAL-URL:https://www.snepfsu-strasbourg.net
X-WR-CALDESC:Évènements pour Le SNEP FSU Strasbourg
REFRESH-INTERVAL;VALUE=DURATION:PT1H
X-Robots-Tag:noindex
X-PUBLISHED-TTL:PT1H
BEGIN:VTIMEZONE
TZID:Europe/Paris
BEGIN:DAYLIGHT
TZOFFSETFROM:+0100
TZOFFSETTO:+0200
TZNAME:CEST
DTSTART:20250330T010000
END:DAYLIGHT
BEGIN:STANDARD
TZOFFSETFROM:+0200
TZOFFSETTO:+0100
TZNAME:CET
DTSTART:20251026T010000
END:STANDARD
BEGIN:DAYLIGHT
TZOFFSETFROM:+0100
TZOFFSETTO:+0200
TZNAME:CEST
DTSTART:20260329T010000
END:DAYLIGHT
BEGIN:STANDARD
TZOFFSETFROM:+0200
TZOFFSETTO:+0100
TZNAME:CET
DTSTART:20261025T010000
END:STANDARD
BEGIN:DAYLIGHT
TZOFFSETFROM:+0100
TZOFFSETTO:+0200
TZNAME:CEST
DTSTART:20270328T010000
END:DAYLIGHT
BEGIN:STANDARD
TZOFFSETFROM:+0200
TZOFFSETTO:+0100
TZNAME:CET
DTSTART:20271031T010000
END:STANDARD
END:VTIMEZONE
BEGIN:VEVENT
DTSTART;TZID=Europe/Paris:20260212T083000
DTEND;TZID=Europe/Paris:20260212T160000
DTSTAMP:20260421T235556
CREATED:20251216T170504Z
LAST-MODIFIED:20251216T170504Z
UID:5160-1770885000-1770912000@www.snepfsu-strasbourg.net
SUMMARY:Stage Ultimate en EPS
DESCRIPTION:Pratique et échanges sur les contenus d’enseignement\n Places limitées à 40 \nPré-Inscription jusqu’au 22/12 pour les syndiqués en envoyant un mail à \ns3-strasbourg@snepfsu.net \nInscription en ligne sur notre site à partir du 23/12 pour tous\, syndiqués et non syndiqués. \nUne journée pour se poser\, échanger dans un cadre sécurisant\, et vivre en pratique nos réflexions sur l’Ultimate. \nQue vous soyez expert.e ou débutant.e dans l’enseignement de cette activité\, vous trouverez votre place dans ce stage. Voir programme ci-dessous. \n Jeudi 12 février – 8h30 – 16h30 \n Collège Kennedy – 13 Av du Président Kennedy – MULHOUSE \nRepas partagé à midi (à chacun de ramener un petit quelque chose à manger et à boire) dans le «petit gymnase». \n\nAnimation du stage : Maxime CLAUDE (Professeur au collège Jean Macé)\n \nProgramme Provisoire :\n\n8h30 – 9h : accueil café/thé.\n9h00-9h30 : présentation du stage – actualités du SNEP-FSU.\n9H30 – 10h00 : Aspects théoriques et Ultimate : pourquoi programmer cette activité?\n10h00 – 12h30 : Continuum d’apprentissage cycle 3 et 4.\n12h30-13h45 : Repas partagé\n13h45 – 14h15 :  Se syndiquer : pourquoi faire ?\n14h15 – 16h : Continuum d’apprentissage niveau Lycée + AS\n16h00-16h30 : Bilan de stage\n\n  \n\nPour t’inscrire\, à partir du 22/12\, remplis le formulaire ci-dessous et tu obtiendras le modèle de demande d’autorisation d’absence à remettre à ton / ta chef/fe d’établissement au moins 1 mois avant le stage. \n\n \n\nIls/Elles sont déjà inscrit(e)sTony PLAISANCE Laura Wucher Frédéric Schwindenhammer Victor BAURY Jean-François BODINIER VONAU-NASSO Nicolas BRIGITTE PROCH Clément Challemel Bénédicte RITZLER Florian BACHMANN Pauline KELLER Nicolas RICHARD Jean Christophe FLOTAT Antonin BRIGLIA Patrice MULLER Barbara RICCOBENE Benjamin MAILLOT Nicolas CERUTTI Lynda Neufeld Daniele WATZKY Samuel GAGUECHE Pauline KIEFFER Quentin Joly Héloise BERNASCONI Philippe PROCH Frédéric Greiner François REYLE Noé JUNG Ingrid RiCHARD Corentin ROST Martin ROUSSET Maxime HARTMANN Jean-Guillaume MOST Maxime CLAUDE CERUTTI Emmanuelle
URL:https://www.snepfsu-strasbourg.net/event/stage-ultimate-en-eps/
LOCATION:Collège Kennedy Mulhouse\, 13 Av du Président Kennedy\, Mulhouse\, Grand Est\, 68200\, France
CATEGORIES:Stages
ATTACH;FMTTYPE=image/jpeg:https://www.snepfsu-strasbourg.net/wp-content/uploads/2025/12/Ultimate-contrepied-e1765904673761.jpg
ORGANIZER;CN="Benjamin Maillot":MAILTO:s3-strasbourg@snepfsu.net
END:VEVENT
END:VCALENDAR